BEGIN:VCALENDAR
VERSION:2.0
PRODID:-//Eagle&#039;s Ridge Golf Course - ECPv6.15.12.2//NONSGML v1.0//EN
CALSCALE:GREGORIAN
METHOD:PUBLISH
X-ORIGINAL-URL:https://eaglesridgegolf.com
X-WR-CALDESC:Events for Eagle&#039;s Ridge Golf Course
REFRESH-INTERVAL;VALUE=DURATION:PT1H
X-Robots-Tag:noindex
X-PUBLISHED-TTL:PT1H
BEGIN:VTIMEZONE
TZID:UTC
BEGIN:STANDARD
TZOFFSETFROM:+0000
TZOFFSETTO:+0000
TZNAME:UTC
DTSTART:20250101T000000
END:STANDARD
END:VTIMEZONE
BEGIN:VEVENT
DTSTART;TZID=UTC:20260905T080000
DTEND;TZID=UTC:20260906T140000
DTSTAMP:20260422T090848
CREATED:20260121T204449Z
LAST-MODIFIED:20260403T172005Z
UID:2032-1788595200-1788703200@eaglesridgegolf.com
SUMMARY:Member-Member 5th & 6th
DESCRIPTION:Eagles Ridge Tournament. Course opens back up at 2:00 pm Saturday and Sunday.
URL:https://eaglesridgegolf.com/event/member-member-2/
END:VEVENT
BEGIN:VEVENT
DTSTART;TZID=UTC:20260912T080000
DTEND;TZID=UTC:20260912T140000
DTSTAMP:20260422T090848
CREATED:20260202T180756Z
LAST-MODIFIED:20260202T180831Z
UID:2043-1789200000-1789221600@eaglesridgegolf.com
SUMMARY:Youth Football and Cheer Tournament
DESCRIPTION:
URL:https://eaglesridgegolf.com/event/youth-football-and-cheer-tournament/
END:VEVENT
END:VCALENDAR