BEGIN:VCALENDAR
VERSION:2.0
PRODID:-//Eagle&#039;s Ridge Golf Course - ECPv6.15.12.2//NONSGML v1.0//EN
CALSCALE:GREGORIAN
METHOD:PUBLISH
X-ORIGINAL-URL:https://eaglesridgegolf.com
X-WR-CALDESC:Events for Eagle&#039;s Ridge Golf Course
REFRESH-INTERVAL;VALUE=DURATION:PT1H
X-Robots-Tag:noindex
X-PUBLISHED-TTL:PT1H
BEGIN:VTIMEZONE
TZID:UTC
BEGIN:STANDARD
TZOFFSETFROM:+0000
TZOFFSETTO:+0000
TZNAME:UTC
DTSTART:20230101T000000
END:STANDARD
END:VTIMEZONE
BEGIN:VEVENT
DTSTART;TZID=UTC:20240629T080000
DTEND;TZID=UTC:20240629T150000
DTSTAMP:20260420T092150
CREATED:20240510T171259Z
LAST-MODIFIED:20240510T171259Z
UID:341-1719648000-1719673200@eaglesridgegolf.com
SUMMARY:Man Overboard
DESCRIPTION:The golf course is closed until 3:00 p.m.
URL:https://eaglesridgegolf.com/event/man-overboard/
END:VEVENT
END:VCALENDAR